BEGIN:VCALENDAR
VERSION:2.0
PRODID:-//St Nicholas Church Warwick - ECPv6.15.20//NONSGML v1.0//EN
CALSCALE:GREGORIAN
METHOD:PUBLISH
X-ORIGINAL-URL:https://www.stnicholaswarwick.org.uk
X-WR-CALDESC:Events for St Nicholas Church Warwick
REFRESH-INTERVAL;VALUE=DURATION:PT1H
X-Robots-Tag:noindex
X-PUBLISHED-TTL:PT1H
BEGIN:VTIMEZONE
TZID:Europe/London
BEGIN:DAYLIGHT
TZOFFSETFROM:+0000
TZOFFSETTO:+0100
TZNAME:BST
DTSTART:20240331T010000
END:DAYLIGHT
BEGIN:STANDARD
TZOFFSETFROM:+0100
TZOFFSETTO:+0000
TZNAME:GMT
DTSTART:20241027T010000
END:STANDARD
BEGIN:DAYLIGHT
TZOFFSETFROM:+0000
TZOFFSETTO:+0100
TZNAME:BST
DTSTART:20250330T010000
END:DAYLIGHT
BEGIN:STANDARD
TZOFFSETFROM:+0100
TZOFFSETTO:+0000
TZNAME:GMT
DTSTART:20251026T010000
END:STANDARD
BEGIN:DAYLIGHT
TZOFFSETFROM:+0000
TZOFFSETTO:+0100
TZNAME:BST
DTSTART:20260329T010000
END:DAYLIGHT
BEGIN:STANDARD
TZOFFSETFROM:+0100
TZOFFSETTO:+0000
TZNAME:GMT
DTSTART:20261025T010000
END:STANDARD
END:VTIMEZONE
BEGIN:VEVENT
DTSTART;TZID=Europe/London:20250929T100000
DTEND;TZID=Europe/London:20250929T123000
DTSTAMP:20260421T112532
CREATED:20250708T120455Z
LAST-MODIFIED:20250708T120455Z
UID:242400-1759140000-1759149000@www.stnicholaswarwick.org.uk
SUMMARY:Men's Shed LEE
DESCRIPTION:
URL:https://www.stnicholaswarwick.org.uk/index.php/event/mens-shed-lee-8/
END:VEVENT
BEGIN:VEVENT
DTSTART;TZID=Europe/London:20250929T180000
DTEND;TZID=Europe/London:20250929T193000
DTSTAMP:20260421T112532
CREATED:20250710T115111Z
LAST-MODIFIED:20250710T115111Z
UID:242476-1759168800-1759174200@www.stnicholaswarwick.org.uk
SUMMARY:Brownies
DESCRIPTION:
URL:https://www.stnicholaswarwick.org.uk/index.php/event/brownies-4/
END:VEVENT
END:VCALENDAR