BEGIN:VCALENDAR
VERSION:2.0
PRODID:-//St Nicholas Church Warwick - ECPv6.15.20//NONSGML v1.0//EN
CALSCALE:GREGORIAN
METHOD:PUBLISH
X-ORIGINAL-URL:https://www.stnicholaswarwick.org.uk
X-WR-CALDESC:Events for St Nicholas Church Warwick
REFRESH-INTERVAL;VALUE=DURATION:PT1H
X-Robots-Tag:noindex
X-PUBLISHED-TTL:PT1H
BEGIN:VTIMEZONE
TZID:Europe/London
BEGIN:DAYLIGHT
TZOFFSETFROM:+0000
TZOFFSETTO:+0100
TZNAME:BST
DTSTART:20240331T010000
END:DAYLIGHT
BEGIN:STANDARD
TZOFFSETFROM:+0100
TZOFFSETTO:+0000
TZNAME:GMT
DTSTART:20241027T010000
END:STANDARD
BEGIN:DAYLIGHT
TZOFFSETFROM:+0000
TZOFFSETTO:+0100
TZNAME:BST
DTSTART:20250330T010000
END:DAYLIGHT
BEGIN:STANDARD
TZOFFSETFROM:+0100
TZOFFSETTO:+0000
TZNAME:GMT
DTSTART:20251026T010000
END:STANDARD
BEGIN:DAYLIGHT
TZOFFSETFROM:+0000
TZOFFSETTO:+0100
TZNAME:BST
DTSTART:20260329T010000
END:DAYLIGHT
BEGIN:STANDARD
TZOFFSETFROM:+0100
TZOFFSETTO:+0000
TZNAME:GMT
DTSTART:20261025T010000
END:STANDARD
END:VTIMEZONE
BEGIN:VEVENT
DTSTART;TZID=Europe/London:20251024T173000
DTEND;TZID=Europe/London:20251024T233000
DTSTAMP:20260421T112506
CREATED:20250715T120048Z
LAST-MODIFIED:20250715T120048Z
UID:242716-1761327000-1761348600@www.stnicholaswarwick.org.uk
SUMMARY:Event - Tango Warwick
DESCRIPTION:
URL:https://www.stnicholaswarwick.org.uk/index.php/event/event-tango-warwick/
END:VEVENT
BEGIN:VEVENT
DTSTART;TZID=Europe/London:20251024T180000
DTEND;TZID=Europe/London:20251024T190000
DTSTAMP:20260421T112506
CREATED:20250715T113807Z
LAST-MODIFIED:20250715T113807Z
UID:242654-1761328800-1761332400@www.stnicholaswarwick.org.uk
SUMMARY:Rainbows
DESCRIPTION:
URL:https://www.stnicholaswarwick.org.uk/index.php/event/rainbows-8/
END:VEVENT
BEGIN:VEVENT
DTSTART;TZID=Europe/London:20251024T190000
DTEND;TZID=Europe/London:20251024T213000
DTSTAMP:20260421T112506
CREATED:20250715T102802Z
LAST-MODIFIED:20250912T121222Z
UID:242538-1761332400-1761341400@www.stnicholaswarwick.org.uk
SUMMARY:Rangers
DESCRIPTION:
URL:https://www.stnicholaswarwick.org.uk/index.php/event/rangers-7/
END:VEVENT
END:VCALENDAR