BEGIN:VCALENDAR
VERSION:2.0
PRODID:-//St Nicholas Church Warwick - ECPv6.15.20//NONSGML v1.0//EN
CALSCALE:GREGORIAN
METHOD:PUBLISH
X-WR-CALNAME:St Nicholas Church Warwick
X-ORIGINAL-URL:https://www.stnicholaswarwick.org.uk
X-WR-CALDESC:Events for St Nicholas Church Warwick
REFRESH-INTERVAL;VALUE=DURATION:PT1H
X-Robots-Tag:noindex
X-PUBLISHED-TTL:PT1H
BEGIN:VTIMEZONE
TZID:Europe/London
BEGIN:DAYLIGHT
TZOFFSETFROM:+0000
TZOFFSETTO:+0100
TZNAME:BST
DTSTART:20240331T010000
END:DAYLIGHT
BEGIN:STANDARD
TZOFFSETFROM:+0100
TZOFFSETTO:+0000
TZNAME:GMT
DTSTART:20241027T010000
END:STANDARD
BEGIN:DAYLIGHT
TZOFFSETFROM:+0000
TZOFFSETTO:+0100
TZNAME:BST
DTSTART:20250330T010000
END:DAYLIGHT
BEGIN:STANDARD
TZOFFSETFROM:+0100
TZOFFSETTO:+0000
TZNAME:GMT
DTSTART:20251026T010000
END:STANDARD
BEGIN:DAYLIGHT
TZOFFSETFROM:+0000
TZOFFSETTO:+0100
TZNAME:BST
DTSTART:20260329T010000
END:DAYLIGHT
BEGIN:STANDARD
TZOFFSETFROM:+0100
TZOFFSETTO:+0000
TZNAME:GMT
DTSTART:20261025T010000
END:STANDARD
END:VTIMEZONE
BEGIN:VEVENT
DTSTART;TZID=Europe/London:20251201T100000
DTEND;TZID=Europe/London:20251201T123000
DTSTAMP:20260421T083939
CREATED:20250708T120929Z
LAST-MODIFIED:20250708T120929Z
UID:242418-1764583200-1764592200@www.stnicholaswarwick.org.uk
SUMMARY:Men's Shed LEE
DESCRIPTION:
URL:https://www.stnicholaswarwick.org.uk/index.php/event/mens-shed-lee-15/
END:VEVENT
BEGIN:VEVENT
DTSTART;TZID=Europe/London:20251201T180000
DTEND;TZID=Europe/London:20251201T193000
DTSTAMP:20260421T083939
CREATED:20250710T120108Z
LAST-MODIFIED:20250710T120108Z
UID:242505-1764612000-1764617400@www.stnicholaswarwick.org.uk
SUMMARY:Brownies
DESCRIPTION:
URL:https://www.stnicholaswarwick.org.uk/index.php/event/brownies-11/
END:VEVENT
BEGIN:VEVENT
DTSTART;TZID=Europe/London:20251201T193000
DTEND;TZID=Europe/London:20251201T210000
DTSTAMP:20260421T083939
CREATED:20250710T120137Z
LAST-MODIFIED:20250710T120137Z
UID:242507-1764617400-1764622800@www.stnicholaswarwick.org.uk
SUMMARY:Guides
DESCRIPTION:
URL:https://www.stnicholaswarwick.org.uk/index.php/event/guides-10/
END:VEVENT
END:VCALENDAR