BEGIN:VCALENDAR
VERSION:2.0
PRODID:-//St Nicholas Church Warwick - ECPv6.15.20//NONSGML v1.0//EN
CALSCALE:GREGORIAN
METHOD:PUBLISH
X-ORIGINAL-URL:https://www.stnicholaswarwick.org.uk
X-WR-CALDESC:Events for St Nicholas Church Warwick
REFRESH-INTERVAL;VALUE=DURATION:PT1H
X-Robots-Tag:noindex
X-PUBLISHED-TTL:PT1H
BEGIN:VTIMEZONE
TZID:Europe/London
BEGIN:DAYLIGHT
TZOFFSETFROM:+0000
TZOFFSETTO:+0100
TZNAME:BST
DTSTART:20240331T010000
END:DAYLIGHT
BEGIN:STANDARD
TZOFFSETFROM:+0100
TZOFFSETTO:+0000
TZNAME:GMT
DTSTART:20241027T010000
END:STANDARD
BEGIN:DAYLIGHT
TZOFFSETFROM:+0000
TZOFFSETTO:+0100
TZNAME:BST
DTSTART:20250330T010000
END:DAYLIGHT
BEGIN:STANDARD
TZOFFSETFROM:+0100
TZOFFSETTO:+0000
TZNAME:GMT
DTSTART:20251026T010000
END:STANDARD
BEGIN:DAYLIGHT
TZOFFSETFROM:+0000
TZOFFSETTO:+0100
TZNAME:BST
DTSTART:20260329T010000
END:DAYLIGHT
BEGIN:STANDARD
TZOFFSETFROM:+0100
TZOFFSETTO:+0000
TZNAME:GMT
DTSTART:20261025T010000
END:STANDARD
END:VTIMEZONE
BEGIN:VEVENT
DTSTART;TZID=Europe/London:20251207T100000
DTEND;TZID=Europe/London:20251207T120000
DTSTAMP:20260421T083939
CREATED:20251201T104218Z
LAST-MODIFIED:20251201T104218Z
UID:242822-1765101600-1765108800@www.stnicholaswarwick.org.uk
SUMMARY:Patronal Service
DESCRIPTION:
URL:https://www.stnicholaswarwick.org.uk/index.php/event/patronal-service/
END:VEVENT
BEGIN:VEVENT
DTSTART;TZID=Europe/London:20251207T173000
DTEND;TZID=Europe/London:20251207T183000
DTSTAMP:20260421T083939
CREATED:20250708T121129Z
LAST-MODIFIED:20250708T121129Z
UID:242426-1765128600-1765132200@www.stnicholaswarwick.org.uk
SUMMARY:Youth Group
DESCRIPTION:
URL:https://www.stnicholaswarwick.org.uk/index.php/event/youth-group/
END:VEVENT
END:VCALENDAR