BEGIN:VCALENDAR
VERSION:2.0
PRODID:-//St Nicholas Church Warwick - ECPv6.15.20//NONSGML v1.0//EN
CALSCALE:GREGORIAN
METHOD:PUBLISH
X-ORIGINAL-URL:https://www.stnicholaswarwick.org.uk
X-WR-CALDESC:Events for St Nicholas Church Warwick
REFRESH-INTERVAL;VALUE=DURATION:PT1H
X-Robots-Tag:noindex
X-PUBLISHED-TTL:PT1H
BEGIN:VTIMEZONE
TZID:Europe/London
BEGIN:DAYLIGHT
TZOFFSETFROM:+0000
TZOFFSETTO:+0100
TZNAME:BST
DTSTART:20240331T010000
END:DAYLIGHT
BEGIN:STANDARD
TZOFFSETFROM:+0100
TZOFFSETTO:+0000
TZNAME:GMT
DTSTART:20241027T010000
END:STANDARD
BEGIN:DAYLIGHT
TZOFFSETFROM:+0000
TZOFFSETTO:+0100
TZNAME:BST
DTSTART:20250330T010000
END:DAYLIGHT
BEGIN:STANDARD
TZOFFSETFROM:+0100
TZOFFSETTO:+0000
TZNAME:GMT
DTSTART:20251026T010000
END:STANDARD
BEGIN:DAYLIGHT
TZOFFSETFROM:+0000
TZOFFSETTO:+0100
TZNAME:BST
DTSTART:20260329T010000
END:DAYLIGHT
BEGIN:STANDARD
TZOFFSETFROM:+0100
TZOFFSETTO:+0000
TZNAME:GMT
DTSTART:20261025T010000
END:STANDARD
END:VTIMEZONE
BEGIN:VEVENT
DTSTART;TZID=Europe/London:20251219T180000
DTEND;TZID=Europe/London:20251219T190000
DTSTAMP:20260421T084728
CREATED:20250715T114338Z
LAST-MODIFIED:20250715T114338Z
UID:242668-1766167200-1766170800@www.stnicholaswarwick.org.uk
SUMMARY:Rainbows
DESCRIPTION:
URL:https://www.stnicholaswarwick.org.uk/index.php/event/rainbows-15/
END:VEVENT
BEGIN:VEVENT
DTSTART;TZID=Europe/London:20251219T190000
DTEND;TZID=Europe/London:20251219T200000
DTSTAMP:20260421T084728
CREATED:20250715T120239Z
LAST-MODIFIED:20250715T120239Z
UID:242722-1766170800-1766174400@www.stnicholaswarwick.org.uk
SUMMARY:Choir Practice
DESCRIPTION:
URL:https://www.stnicholaswarwick.org.uk/index.php/event/choir-practice-24/
END:VEVENT
BEGIN:VEVENT
DTSTART;TZID=Europe/London:20251219T190000
DTEND;TZID=Europe/London:20251219T213000
DTSTAMP:20260421T084728
CREATED:20250912T121800Z
LAST-MODIFIED:20250912T121800Z
UID:242769-1766170800-1766179800@www.stnicholaswarwick.org.uk
SUMMARY:Rangers
DESCRIPTION:
URL:https://www.stnicholaswarwick.org.uk/index.php/event/rangers-14/
END:VEVENT
END:VCALENDAR