BEGIN:VCALENDAR
VERSION:2.0
PRODID:-//St Nicholas Church Warwick - ECPv6.15.20//NONSGML v1.0//EN
CALSCALE:GREGORIAN
METHOD:PUBLISH
X-WR-CALNAME:St Nicholas Church Warwick
X-ORIGINAL-URL:https://www.stnicholaswarwick.org.uk
X-WR-CALDESC:Events for St Nicholas Church Warwick
REFRESH-INTERVAL;VALUE=DURATION:PT1H
X-Robots-Tag:noindex
X-PUBLISHED-TTL:PT1H
BEGIN:VTIMEZONE
TZID:Europe/London
BEGIN:DAYLIGHT
TZOFFSETFROM:+0000
TZOFFSETTO:+0100
TZNAME:BST
DTSTART:20240331T010000
END:DAYLIGHT
BEGIN:STANDARD
TZOFFSETFROM:+0100
TZOFFSETTO:+0000
TZNAME:GMT
DTSTART:20241027T010000
END:STANDARD
BEGIN:DAYLIGHT
TZOFFSETFROM:+0000
TZOFFSETTO:+0100
TZNAME:BST
DTSTART:20250330T010000
END:DAYLIGHT
BEGIN:STANDARD
TZOFFSETFROM:+0100
TZOFFSETTO:+0000
TZNAME:GMT
DTSTART:20251026T010000
END:STANDARD
BEGIN:DAYLIGHT
TZOFFSETFROM:+0000
TZOFFSETTO:+0100
TZNAME:BST
DTSTART:20260329T010000
END:DAYLIGHT
BEGIN:STANDARD
TZOFFSETFROM:+0100
TZOFFSETTO:+0000
TZNAME:GMT
DTSTART:20261025T010000
END:STANDARD
END:VTIMEZONE
BEGIN:VEVENT
DTSTART;TZID=Europe/London:20251224T160000
DTEND;TZID=Europe/London:20251224T170000
DTSTAMP:20260421T101424
CREATED:20251201T103833Z
LAST-MODIFIED:20251201T103833Z
UID:242816-1766592000-1766595600@www.stnicholaswarwick.org.uk
SUMMARY:Nativity Service
DESCRIPTION:
URL:https://www.stnicholaswarwick.org.uk/index.php/event/nativity-service-4/
END:VEVENT
BEGIN:VEVENT
DTSTART;TZID=Europe/London:20251224T231500
DTEND;TZID=Europe/London:20251225T000000
DTSTAMP:20260421T101424
CREATED:20251201T103928Z
LAST-MODIFIED:20251201T103928Z
UID:242818-1766618100-1766620800@www.stnicholaswarwick.org.uk
SUMMARY:First Communion of Christmas
DESCRIPTION:
URL:https://www.stnicholaswarwick.org.uk/index.php/event/first-communion-of-christmas-3/
END:VEVENT
END:VCALENDAR