BEGIN:VCALENDAR
VERSION:2.0
PRODID:-//St Nicholas Church Warwick - ECPv6.15.20//NONSGML v1.0//EN
CALSCALE:GREGORIAN
METHOD:PUBLISH
X-ORIGINAL-URL:https://www.stnicholaswarwick.org.uk
X-WR-CALDESC:Events for St Nicholas Church Warwick
REFRESH-INTERVAL;VALUE=DURATION:PT1H
X-Robots-Tag:noindex
X-PUBLISHED-TTL:PT1H
BEGIN:VTIMEZONE
TZID:Europe/London
BEGIN:DAYLIGHT
TZOFFSETFROM:+0000
TZOFFSETTO:+0100
TZNAME:BST
DTSTART:20250330T010000
END:DAYLIGHT
BEGIN:STANDARD
TZOFFSETFROM:+0100
TZOFFSETTO:+0000
TZNAME:GMT
DTSTART:20251026T010000
END:STANDARD
BEGIN:DAYLIGHT
TZOFFSETFROM:+0000
TZOFFSETTO:+0100
TZNAME:BST
DTSTART:20260329T010000
END:DAYLIGHT
BEGIN:STANDARD
TZOFFSETFROM:+0100
TZOFFSETTO:+0000
TZNAME:GMT
DTSTART:20261025T010000
END:STANDARD
BEGIN:DAYLIGHT
TZOFFSETFROM:+0000
TZOFFSETTO:+0100
TZNAME:BST
DTSTART:20270328T010000
END:DAYLIGHT
BEGIN:STANDARD
TZOFFSETFROM:+0100
TZOFFSETTO:+0000
TZNAME:GMT
DTSTART:20271031T010000
END:STANDARD
END:VTIMEZONE
BEGIN:VEVENT
DTSTART;TZID=Europe/London:20260215T100000
DTEND;TZID=Europe/London:20260215T120000
DTSTAMP:20260419T180517
CREATED:20260112T120035Z
LAST-MODIFIED:20260112T120035Z
UID:242893-1771149600-1771156800@www.stnicholaswarwick.org.uk
SUMMARY:Holy Communion followed by refreshments
DESCRIPTION:
URL:https://www.stnicholaswarwick.org.uk/index.php/event/holy-communion-followed-by-refreshments-40/
END:VEVENT
BEGIN:VEVENT
DTSTART;TZID=Europe/London:20260215T150000
DTEND;TZID=Europe/London:20260215T170000
DTSTAMP:20260419T180517
CREATED:20260112T122020Z
LAST-MODIFIED:20260112T122020Z
UID:242931-1771167600-1771174800@www.stnicholaswarwick.org.uk
SUMMARY:Lovecy Sunday Concert
DESCRIPTION:
URL:https://www.stnicholaswarwick.org.uk/index.php/event/lovecy-sunday-concert-19/
END:VEVENT
END:VCALENDAR