BEGIN:VCALENDAR
VERSION:2.0
PRODID:-//St Nicholas Church Warwick - ECPv6.15.20//NONSGML v1.0//EN
CALSCALE:GREGORIAN
METHOD:PUBLISH
X-ORIGINAL-URL:https://www.stnicholaswarwick.org.uk
X-WR-CALDESC:Events for St Nicholas Church Warwick
REFRESH-INTERVAL;VALUE=DURATION:PT1H
X-Robots-Tag:noindex
X-PUBLISHED-TTL:PT1H
BEGIN:VTIMEZONE
TZID:Europe/London
BEGIN:DAYLIGHT
TZOFFSETFROM:+0000
TZOFFSETTO:+0100
TZNAME:BST
DTSTART:20250330T010000
END:DAYLIGHT
BEGIN:STANDARD
TZOFFSETFROM:+0100
TZOFFSETTO:+0000
TZNAME:GMT
DTSTART:20251026T010000
END:STANDARD
BEGIN:DAYLIGHT
TZOFFSETFROM:+0000
TZOFFSETTO:+0100
TZNAME:BST
DTSTART:20260329T010000
END:DAYLIGHT
BEGIN:STANDARD
TZOFFSETFROM:+0100
TZOFFSETTO:+0000
TZNAME:GMT
DTSTART:20261025T010000
END:STANDARD
BEGIN:DAYLIGHT
TZOFFSETFROM:+0000
TZOFFSETTO:+0100
TZNAME:BST
DTSTART:20270328T010000
END:DAYLIGHT
BEGIN:STANDARD
TZOFFSETFROM:+0100
TZOFFSETTO:+0000
TZNAME:GMT
DTSTART:20271031T010000
END:STANDARD
END:VTIMEZONE
BEGIN:VEVENT
DTSTART;TZID=Europe/London:20260622T103000
DTEND;TZID=Europe/London:20260622T123000
DTSTAMP:20260419T175449
CREATED:20260116T123841Z
LAST-MODIFIED:20260116T123841Z
UID:242957-1782124200-1782131400@www.stnicholaswarwick.org.uk
SUMMARY:Men's Shed
DESCRIPTION:
URL:https://www.stnicholaswarwick.org.uk/index.php/event/mens-shed-59/
END:VEVENT
BEGIN:VEVENT
DTSTART;TZID=Europe/London:20260622T180000
DTEND;TZID=Europe/London:20260622T193000
DTSTAMP:20260419T175449
CREATED:20260116T131235Z
LAST-MODIFIED:20260116T131235Z
UID:243063-1782151200-1782156600@www.stnicholaswarwick.org.uk
SUMMARY:Brownies
DESCRIPTION:
URL:https://www.stnicholaswarwick.org.uk/index.php/event/brownies-32/
END:VEVENT
BEGIN:VEVENT
DTSTART;TZID=Europe/London:20260622T193000
DTEND;TZID=Europe/London:20260622T210000
DTSTAMP:20260419T175449
CREATED:20260116T134925Z
LAST-MODIFIED:20260116T134925Z
UID:243109-1782156600-1782162000@www.stnicholaswarwick.org.uk
SUMMARY:Guides
DESCRIPTION:
URL:https://www.stnicholaswarwick.org.uk/index.php/event/guides-31/
END:VEVENT
END:VCALENDAR