BEGIN:VCALENDAR
VERSION:2.0
PRODID:-//St Nicholas Church Warwick - ECPv6.15.20//NONSGML v1.0//EN
CALSCALE:GREGORIAN
METHOD:PUBLISH
X-ORIGINAL-URL:https://www.stnicholaswarwick.org.uk
X-WR-CALDESC:Events for St Nicholas Church Warwick
REFRESH-INTERVAL;VALUE=DURATION:PT1H
X-Robots-Tag:noindex
X-PUBLISHED-TTL:PT1H
BEGIN:VTIMEZONE
TZID:Europe/London
BEGIN:DAYLIGHT
TZOFFSETFROM:+0000
TZOFFSETTO:+0100
TZNAME:BST
DTSTART:20250330T010000
END:DAYLIGHT
BEGIN:STANDARD
TZOFFSETFROM:+0100
TZOFFSETTO:+0000
TZNAME:GMT
DTSTART:20251026T010000
END:STANDARD
BEGIN:DAYLIGHT
TZOFFSETFROM:+0000
TZOFFSETTO:+0100
TZNAME:BST
DTSTART:20260329T010000
END:DAYLIGHT
BEGIN:STANDARD
TZOFFSETFROM:+0100
TZOFFSETTO:+0000
TZNAME:GMT
DTSTART:20261025T010000
END:STANDARD
BEGIN:DAYLIGHT
TZOFFSETFROM:+0000
TZOFFSETTO:+0100
TZNAME:BST
DTSTART:20270328T010000
END:DAYLIGHT
BEGIN:STANDARD
TZOFFSETFROM:+0100
TZOFFSETTO:+0000
TZNAME:GMT
DTSTART:20271031T010000
END:STANDARD
END:VTIMEZONE
BEGIN:VEVENT
DTSTART;TZID=Europe/London:20260710T180000
DTEND;TZID=Europe/London:20260710T190000
DTSTAMP:20260419T192312
CREATED:20260122T125102Z
LAST-MODIFIED:20260122T125102Z
UID:243427-1783706400-1783710000@www.stnicholaswarwick.org.uk
SUMMARY:Rainbows
DESCRIPTION:
URL:https://www.stnicholaswarwick.org.uk/index.php/event/rainbows-36/
END:VEVENT
BEGIN:VEVENT
DTSTART;TZID=Europe/London:20260710T190000
DTEND;TZID=Europe/London:20260710T200000
DTSTAMP:20260419T192312
CREATED:20260123T112710Z
LAST-MODIFIED:20260123T112710Z
UID:243538-1783710000-1783713600@www.stnicholaswarwick.org.uk
SUMMARY:Choir practice
DESCRIPTION:
URL:https://www.stnicholaswarwick.org.uk/index.php/event/choir-practice-48/
END:VEVENT
BEGIN:VEVENT
DTSTART;TZID=Europe/London:20260710T190000
DTEND;TZID=Europe/London:20260710T213000
DTSTAMP:20260419T192312
CREATED:20260122T125125Z
LAST-MODIFIED:20260122T125125Z
UID:243429-1783710000-1783719000@www.stnicholaswarwick.org.uk
SUMMARY:Rangers
DESCRIPTION:
URL:https://www.stnicholaswarwick.org.uk/index.php/event/rangers-35/
END:VEVENT
END:VCALENDAR