BEGIN:VCALENDAR
VERSION:2.0
PRODID:-//St Nicholas Church Warwick - ECPv6.15.20//NONSGML v1.0//EN
CALSCALE:GREGORIAN
METHOD:PUBLISH
X-ORIGINAL-URL:https://www.stnicholaswarwick.org.uk
X-WR-CALDESC:Events for St Nicholas Church Warwick
REFRESH-INTERVAL;VALUE=DURATION:PT1H
X-Robots-Tag:noindex
X-PUBLISHED-TTL:PT1H
BEGIN:VTIMEZONE
TZID:Europe/London
BEGIN:DAYLIGHT
TZOFFSETFROM:+0000
TZOFFSETTO:+0100
TZNAME:BST
DTSTART:20250330T010000
END:DAYLIGHT
BEGIN:STANDARD
TZOFFSETFROM:+0100
TZOFFSETTO:+0000
TZNAME:GMT
DTSTART:20251026T010000
END:STANDARD
BEGIN:DAYLIGHT
TZOFFSETFROM:+0000
TZOFFSETTO:+0100
TZNAME:BST
DTSTART:20260329T010000
END:DAYLIGHT
BEGIN:STANDARD
TZOFFSETFROM:+0100
TZOFFSETTO:+0000
TZNAME:GMT
DTSTART:20261025T010000
END:STANDARD
BEGIN:DAYLIGHT
TZOFFSETFROM:+0000
TZOFFSETTO:+0100
TZNAME:BST
DTSTART:20270328T010000
END:DAYLIGHT
BEGIN:STANDARD
TZOFFSETFROM:+0100
TZOFFSETTO:+0000
TZNAME:GMT
DTSTART:20271031T010000
END:STANDARD
END:VTIMEZONE
BEGIN:VEVENT
DTSTART;TZID=Europe/London:20261116T103000
DTEND;TZID=Europe/London:20261116T123000
DTSTAMP:20260420T010740
CREATED:20260116T124805Z
LAST-MODIFIED:20260116T124805Z
UID:242997-1794825000-1794832200@www.stnicholaswarwick.org.uk
SUMMARY:Men's Shed
DESCRIPTION:
URL:https://www.stnicholaswarwick.org.uk/index.php/event/mens-shed-79/
END:VEVENT
BEGIN:VEVENT
DTSTART;TZID=Europe/London:20261116T180000
DTEND;TZID=Europe/London:20261116T193000
DTSTAMP:20260420T010740
CREATED:20260120T123919Z
LAST-MODIFIED:20260120T123919Z
UID:243157-1794852000-1794857400@www.stnicholaswarwick.org.uk
SUMMARY:Brownies
DESCRIPTION:
URL:https://www.stnicholaswarwick.org.uk/index.php/event/brownies-45/
END:VEVENT
BEGIN:VEVENT
DTSTART;TZID=Europe/London:20261116T193000
DTEND;TZID=Europe/London:20261116T210000
DTSTAMP:20260420T010740
CREATED:20260120T124009Z
LAST-MODIFIED:20260120T124009Z
UID:243159-1794857400-1794862800@www.stnicholaswarwick.org.uk
SUMMARY:Guides
DESCRIPTION:
URL:https://www.stnicholaswarwick.org.uk/index.php/event/guides-44/
END:VEVENT
END:VCALENDAR