BEGIN:VCALENDAR
VERSION:2.0
PRODID:-//St Nicholas Church Warwick - ECPv6.15.20//NONSGML v1.0//EN
CALSCALE:GREGORIAN
METHOD:PUBLISH
X-ORIGINAL-URL:https://www.stnicholaswarwick.org.uk
X-WR-CALDESC:Events for St Nicholas Church Warwick
REFRESH-INTERVAL;VALUE=DURATION:PT1H
X-Robots-Tag:noindex
X-PUBLISHED-TTL:PT1H
BEGIN:VTIMEZONE
TZID:Europe/London
BEGIN:DAYLIGHT
TZOFFSETFROM:+0000
TZOFFSETTO:+0100
TZNAME:BST
DTSTART:20240331T010000
END:DAYLIGHT
BEGIN:STANDARD
TZOFFSETFROM:+0100
TZOFFSETTO:+0000
TZNAME:GMT
DTSTART:20241027T010000
END:STANDARD
BEGIN:DAYLIGHT
TZOFFSETFROM:+0000
TZOFFSETTO:+0100
TZNAME:BST
DTSTART:20250330T010000
END:DAYLIGHT
BEGIN:STANDARD
TZOFFSETFROM:+0100
TZOFFSETTO:+0000
TZNAME:GMT
DTSTART:20251026T010000
END:STANDARD
BEGIN:DAYLIGHT
TZOFFSETFROM:+0000
TZOFFSETTO:+0100
TZNAME:BST
DTSTART:20260329T010000
END:DAYLIGHT
BEGIN:STANDARD
TZOFFSETFROM:+0100
TZOFFSETTO:+0000
TZNAME:GMT
DTSTART:20261025T010000
END:STANDARD
END:VTIMEZONE
BEGIN:VEVENT
DTSTART;TZID=Europe/London:20250901T100000
DTEND;TZID=Europe/London:20250901T123000
DTSTAMP:20260421T112530
CREATED:20250708T120302Z
LAST-MODIFIED:20250708T120302Z
UID:242392-1756720800-1756729800@www.stnicholaswarwick.org.uk
SUMMARY:Men's Shed
DESCRIPTION:
URL:https://www.stnicholaswarwick.org.uk/index.php/event/mens-shed-34/
END:VEVENT
BEGIN:VEVENT
DTSTART;TZID=Europe/London:20250903T140000
DTEND;TZID=Europe/London:20250903T160000
DTSTAMP:20260421T112530
CREATED:20250708T111942Z
LAST-MODIFIED:20250708T111942Z
UID:242266-1756908000-1756915200@www.stnicholaswarwick.org.uk
SUMMARY:Pause in the Park
DESCRIPTION:
URL:https://www.stnicholaswarwick.org.uk/index.php/event/pause-in-the-park-63/
END:VEVENT
BEGIN:VEVENT
DTSTART;TZID=Europe/London:20250904T180000
DTEND;TZID=Europe/London:20250904T193000
DTSTAMP:20260421T112530
CREATED:20250715T104948Z
LAST-MODIFIED:20250715T104948Z
UID:242560-1757008800-1757014200@www.stnicholaswarwick.org.uk
SUMMARY:Bell Ringing Lesson
DESCRIPTION:
URL:https://www.stnicholaswarwick.org.uk/index.php/event/bell-ringing-lesson-4/
END:VEVENT
BEGIN:VEVENT
DTSTART;TZID=Europe/London:20250904T193000
DTEND;TZID=Europe/London:20250904T210000
DTSTAMP:20260421T112530
CREATED:20250715T105542Z
LAST-MODIFIED:20250715T105542Z
UID:242582-1757014200-1757019600@www.stnicholaswarwick.org.uk
SUMMARY:Bell Ringing Practice
DESCRIPTION:
URL:https://www.stnicholaswarwick.org.uk/index.php/event/bell-ringing-practice-8/
END:VEVENT
BEGIN:VEVENT
DTSTART;TZID=Europe/London:20250905T180000
DTEND;TZID=Europe/London:20250905T190000
DTSTAMP:20260421T112530
CREATED:20250715T113354Z
LAST-MODIFIED:20250715T113354Z
UID:242640-1757095200-1757098800@www.stnicholaswarwick.org.uk
SUMMARY:Rainbows
DESCRIPTION:
URL:https://www.stnicholaswarwick.org.uk/index.php/event/rainbows/
END:VEVENT
BEGIN:VEVENT
DTSTART;TZID=Europe/London:20250905T190000
DTEND;TZID=Europe/London:20250905T200000
DTSTAMP:20260421T112530
CREATED:20250715T115127Z
LAST-MODIFIED:20250715T115127Z
UID:242688-1757098800-1757102400@www.stnicholaswarwick.org.uk
SUMMARY:Choir Practice
DESCRIPTION:
URL:https://www.stnicholaswarwick.org.uk/index.php/event/choir-practice-10/
END:VEVENT
BEGIN:VEVENT
DTSTART;TZID=Europe/London:20250907T100000
DTEND;TZID=Europe/London:20250907T113000
DTSTAMP:20260421T112530
CREATED:20250703T092311Z
LAST-MODIFIED:20250703T092311Z
UID:242170-1757239200-1757244600@www.stnicholaswarwick.org.uk
SUMMARY:Holy Communion followed by refreshments
DESCRIPTION:
URL:https://www.stnicholaswarwick.org.uk/index.php/event/holy-communion-followed-by-refreshments-34/
END:VEVENT
BEGIN:VEVENT
DTSTART;TZID=Europe/London:20250907T173000
DTEND;TZID=Europe/London:20250907T183000
DTSTAMP:20260421T112530
CREATED:20250708T121256Z
LAST-MODIFIED:20250708T121256Z
UID:242432-1757266200-1757269800@www.stnicholaswarwick.org.uk
SUMMARY:Youth Group
DESCRIPTION:
URL:https://www.stnicholaswarwick.org.uk/index.php/event/youth-group-4/
END:VEVENT
BEGIN:VEVENT
DTSTART;TZID=Europe/London:20250908T100000
DTEND;TZID=Europe/London:20250908T123000
DTSTAMP:20260421T112530
CREATED:20250708T120332Z
LAST-MODIFIED:20250708T120332Z
UID:242394-1757325600-1757334600@www.stnicholaswarwick.org.uk
SUMMARY:Men's Shed
DESCRIPTION:
URL:https://www.stnicholaswarwick.org.uk/index.php/event/mens-shed-35/
END:VEVENT
BEGIN:VEVENT
DTSTART;TZID=Europe/London:20250908T180000
DTEND;TZID=Europe/London:20250908T193000
DTSTAMP:20260421T112530
CREATED:20250710T114818Z
LAST-MODIFIED:20250710T114818Z
UID:242464-1757354400-1757359800@www.stnicholaswarwick.org.uk
SUMMARY:Brownies
DESCRIPTION:
URL:https://www.stnicholaswarwick.org.uk/index.php/event/brownies/
END:VEVENT
BEGIN:VEVENT
DTSTART;TZID=Europe/London:20250908T193000
DTEND;TZID=Europe/London:20250908T210000
DTSTAMP:20260421T112530
CREATED:20250710T114911Z
LAST-MODIFIED:20250710T114911Z
UID:242468-1757359800-1757365200@www.stnicholaswarwick.org.uk
SUMMARY:Guides
DESCRIPTION:
URL:https://www.stnicholaswarwick.org.uk/index.php/event/guides/
END:VEVENT
BEGIN:VEVENT
DTSTART;TZID=Europe/London:20250910T100000
DTEND;TZID=Europe/London:20250910T113000
DTSTAMP:20260421T112530
CREATED:20250708T112047Z
LAST-MODIFIED:20250708T112047Z
UID:242270-1757498400-1757503800@www.stnicholaswarwick.org.uk
SUMMARY:Toddler Group
DESCRIPTION:
URL:https://www.stnicholaswarwick.org.uk/index.php/event/toddler-group-24/
END:VEVENT
BEGIN:VEVENT
DTSTART;TZID=Europe/London:20250910T140000
DTEND;TZID=Europe/London:20250910T160000
DTSTAMP:20260421T112530
CREATED:20250708T112119Z
LAST-MODIFIED:20250708T112119Z
UID:242272-1757512800-1757520000@www.stnicholaswarwick.org.uk
SUMMARY:Pause in the Park
DESCRIPTION:
URL:https://www.stnicholaswarwick.org.uk/index.php/event/pause-in-the-park-64/
END:VEVENT
BEGIN:VEVENT
DTSTART;TZID=Europe/London:20250910T190000
DTEND;TZID=Europe/London:20250910T213000
DTSTAMP:20260421T112530
CREATED:20250715T102536Z
LAST-MODIFIED:20250715T102536Z
UID:242526-1757530800-1757539800@www.stnicholaswarwick.org.uk
SUMMARY:Rangers
DESCRIPTION:
URL:https://www.stnicholaswarwick.org.uk/index.php/event/rangers/
END:VEVENT
BEGIN:VEVENT
DTSTART;TZID=Europe/London:20250911T180000
DTEND;TZID=Europe/London:20250911T193000
DTSTAMP:20260421T112530
CREATED:20250715T105011Z
LAST-MODIFIED:20250715T105011Z
UID:242562-1757613600-1757619000@www.stnicholaswarwick.org.uk
SUMMARY:Bell Ringing Lesson
DESCRIPTION:
URL:https://www.stnicholaswarwick.org.uk/index.php/event/bell-ringing-lesson-5/
END:VEVENT
BEGIN:VEVENT
DTSTART;TZID=Europe/London:20250911T193000
DTEND;TZID=Europe/London:20250911T210000
DTSTAMP:20260421T112530
CREATED:20250715T105607Z
LAST-MODIFIED:20250715T105607Z
UID:242584-1757619000-1757624400@www.stnicholaswarwick.org.uk
SUMMARY:Bell Ringing Practice
DESCRIPTION:
URL:https://www.stnicholaswarwick.org.uk/index.php/event/bell-ringing-practice-9/
END:VEVENT
BEGIN:VEVENT
DTSTART;TZID=Europe/London:20250912T180000
DTEND;TZID=Europe/London:20250912T190000
DTSTAMP:20260421T112530
CREATED:20250715T113416Z
LAST-MODIFIED:20250715T113416Z
UID:242642-1757700000-1757703600@www.stnicholaswarwick.org.uk
SUMMARY:Rainbows
DESCRIPTION:
URL:https://www.stnicholaswarwick.org.uk/index.php/event/rainbows-2/
END:VEVENT
BEGIN:VEVENT
DTSTART;TZID=Europe/London:20250912T190000
DTEND;TZID=Europe/London:20250912T200000
DTSTAMP:20260421T112530
CREATED:20250715T115147Z
LAST-MODIFIED:20250715T115147Z
UID:242690-1757703600-1757707200@www.stnicholaswarwick.org.uk
SUMMARY:Choir Practice
DESCRIPTION:
URL:https://www.stnicholaswarwick.org.uk/index.php/event/choir-practice-11/
END:VEVENT
BEGIN:VEVENT
DTSTART;TZID=Europe/London:20250914T090000
DTEND;TZID=Europe/London:20250914T100000
DTSTAMP:20260421T112530
CREATED:20250703T092419Z
LAST-MODIFIED:20250703T092419Z
UID:242172-1757840400-1757844000@www.stnicholaswarwick.org.uk
SUMMARY:Rise & Shine Service
DESCRIPTION:
URL:https://www.stnicholaswarwick.org.uk/index.php/event/rise-shine-service-18/
END:VEVENT
BEGIN:VEVENT
DTSTART;TZID=Europe/London:20250914T103000
DTEND;TZID=Europe/London:20250914T120000
DTSTAMP:20260421T112530
CREATED:20250703T092451Z
LAST-MODIFIED:20250703T092451Z
UID:242174-1757845800-1757851200@www.stnicholaswarwick.org.uk
SUMMARY:Holy Communion followed by refreshments
DESCRIPTION:
URL:https://www.stnicholaswarwick.org.uk/index.php/event/holy-communion-followed-by-refreshments-35/
END:VEVENT
BEGIN:VEVENT
DTSTART;TZID=Europe/London:20250915T100000
DTEND;TZID=Europe/London:20250915T123000
DTSTAMP:20260421T112530
CREATED:20250708T120359Z
LAST-MODIFIED:20250708T120359Z
UID:242396-1757930400-1757939400@www.stnicholaswarwick.org.uk
SUMMARY:Men's Shed LEE
DESCRIPTION:
URL:https://www.stnicholaswarwick.org.uk/index.php/event/mens-shed-lee-7/
END:VEVENT
BEGIN:VEVENT
DTSTART;TZID=Europe/London:20250915T180000
DTEND;TZID=Europe/London:20250915T193000
DTSTAMP:20260421T112530
CREATED:20250710T114846Z
LAST-MODIFIED:20250710T114846Z
UID:242466-1757959200-1757964600@www.stnicholaswarwick.org.uk
SUMMARY:Brownies
DESCRIPTION:
URL:https://www.stnicholaswarwick.org.uk/index.php/event/brownies-2/
END:VEVENT
BEGIN:VEVENT
DTSTART;TZID=Europe/London:20250915T193000
DTEND;TZID=Europe/London:20250915T210000
DTSTAMP:20260421T112530
CREATED:20250710T114935Z
LAST-MODIFIED:20250710T114935Z
UID:242470-1757964600-1757970000@www.stnicholaswarwick.org.uk
SUMMARY:Guides
DESCRIPTION:
URL:https://www.stnicholaswarwick.org.uk/index.php/event/guides-2/
END:VEVENT
BEGIN:VEVENT
DTSTART;TZID=Europe/London:20250917T100000
DTEND;TZID=Europe/London:20250917T113000
DTSTAMP:20260421T112530
CREATED:20250708T112157Z
LAST-MODIFIED:20250708T112157Z
UID:242274-1758103200-1758108600@www.stnicholaswarwick.org.uk
SUMMARY:Toddler Group
DESCRIPTION:
URL:https://www.stnicholaswarwick.org.uk/index.php/event/toddler-group-25/
END:VEVENT
BEGIN:VEVENT
DTSTART;TZID=Europe/London:20250917T140000
DTEND;TZID=Europe/London:20250917T160000
DTSTAMP:20260421T112530
CREATED:20250708T112226Z
LAST-MODIFIED:20250708T112226Z
UID:242276-1758117600-1758124800@www.stnicholaswarwick.org.uk
SUMMARY:Pause in the Park
DESCRIPTION:
URL:https://www.stnicholaswarwick.org.uk/index.php/event/pause-in-the-park-65/
END:VEVENT
BEGIN:VEVENT
DTSTART;TZID=Europe/London:20250918T180000
DTEND;TZID=Europe/London:20250918T193000
DTSTAMP:20260421T112530
CREATED:20250715T105049Z
LAST-MODIFIED:20250715T105049Z
UID:242564-1758218400-1758223800@www.stnicholaswarwick.org.uk
SUMMARY:Bell Ringing Lesson
DESCRIPTION:
URL:https://www.stnicholaswarwick.org.uk/index.php/event/bell-ringing-lesson-6/
END:VEVENT
BEGIN:VEVENT
DTSTART;TZID=Europe/London:20250918T193000
DTEND;TZID=Europe/London:20250918T210000
DTSTAMP:20260421T112530
CREATED:20250715T105806Z
LAST-MODIFIED:20250715T105806Z
UID:242586-1758223800-1758229200@www.stnicholaswarwick.org.uk
SUMMARY:Bell Ringing Practice
DESCRIPTION:
URL:https://www.stnicholaswarwick.org.uk/index.php/event/bell-ringing-practice-10/
END:VEVENT
BEGIN:VEVENT
DTSTART;TZID=Europe/London:20250919T180000
DTEND;TZID=Europe/London:20250919T190000
DTSTAMP:20260421T112530
CREATED:20250715T113444Z
LAST-MODIFIED:20250715T113444Z
UID:242644-1758304800-1758308400@www.stnicholaswarwick.org.uk
SUMMARY:Rainbows
DESCRIPTION:
URL:https://www.stnicholaswarwick.org.uk/index.php/event/rainbows-3/
END:VEVENT
BEGIN:VEVENT
DTSTART;TZID=Europe/London:20250919T190000
DTEND;TZID=Europe/London:20250919T200000
DTSTAMP:20260421T112530
CREATED:20250715T115220Z
LAST-MODIFIED:20250715T115220Z
UID:242692-1758308400-1758312000@www.stnicholaswarwick.org.uk
SUMMARY:Choir Practice
DESCRIPTION:
URL:https://www.stnicholaswarwick.org.uk/index.php/event/choir-practice-12/
END:VEVENT
BEGIN:VEVENT
DTSTART;TZID=Europe/London:20250919T190000
DTEND;TZID=Europe/London:20250919T213000
DTSTAMP:20260421T112530
CREATED:20250715T102555Z
LAST-MODIFIED:20250912T121510Z
UID:242528-1758308400-1758317400@www.stnicholaswarwick.org.uk
SUMMARY:Rangers
DESCRIPTION:
URL:https://www.stnicholaswarwick.org.uk/index.php/event/rangers-2/
END:VEVENT
END:VCALENDAR