BEGIN:VCALENDAR
VERSION:2.0
PRODID:-//St Nicholas Church Warwick - ECPv6.15.20//NONSGML v1.0//EN
CALSCALE:GREGORIAN
METHOD:PUBLISH
X-ORIGINAL-URL:https://www.stnicholaswarwick.org.uk
X-WR-CALDESC:Events for St Nicholas Church Warwick
REFRESH-INTERVAL;VALUE=DURATION:PT1H
X-Robots-Tag:noindex
X-PUBLISHED-TTL:PT1H
BEGIN:VTIMEZONE
TZID:Europe/London
BEGIN:DAYLIGHT
TZOFFSETFROM:+0000
TZOFFSETTO:+0100
TZNAME:BST
DTSTART:20240331T010000
END:DAYLIGHT
BEGIN:STANDARD
TZOFFSETFROM:+0100
TZOFFSETTO:+0000
TZNAME:GMT
DTSTART:20241027T010000
END:STANDARD
BEGIN:DAYLIGHT
TZOFFSETFROM:+0000
TZOFFSETTO:+0100
TZNAME:BST
DTSTART:20250330T010000
END:DAYLIGHT
BEGIN:STANDARD
TZOFFSETFROM:+0100
TZOFFSETTO:+0000
TZNAME:GMT
DTSTART:20251026T010000
END:STANDARD
BEGIN:DAYLIGHT
TZOFFSETFROM:+0000
TZOFFSETTO:+0100
TZNAME:BST
DTSTART:20260329T010000
END:DAYLIGHT
BEGIN:STANDARD
TZOFFSETFROM:+0100
TZOFFSETTO:+0000
TZNAME:GMT
DTSTART:20261025T010000
END:STANDARD
END:VTIMEZONE
BEGIN:VEVENT
DTSTART;TZID=Europe/London:20251102T173000
DTEND;TZID=Europe/London:20251102T183000
DTSTAMP:20260421T084722
CREATED:20250708T121200Z
LAST-MODIFIED:20250708T121200Z
UID:242428-1762104600-1762108200@www.stnicholaswarwick.org.uk
SUMMARY:Youth Group
DESCRIPTION:
URL:https://www.stnicholaswarwick.org.uk/index.php/event/youth-group-2/
END:VEVENT
BEGIN:VEVENT
DTSTART;TZID=Europe/London:20251103T100000
DTEND;TZID=Europe/London:20251103T123000
DTSTAMP:20260421T084722
CREATED:20250708T120735Z
LAST-MODIFIED:20250708T120735Z
UID:242410-1762164000-1762173000@www.stnicholaswarwick.org.uk
SUMMARY:Men's Shed LEE
DESCRIPTION:
URL:https://www.stnicholaswarwick.org.uk/index.php/event/mens-shed-lee-11/
END:VEVENT
BEGIN:VEVENT
DTSTART;TZID=Europe/London:20251103T180000
DTEND;TZID=Europe/London:20251103T193000
DTSTAMP:20260421T084722
CREATED:20250710T115632Z
LAST-MODIFIED:20250710T115632Z
UID:242488-1762192800-1762198200@www.stnicholaswarwick.org.uk
SUMMARY:Brownies
DESCRIPTION:
URL:https://www.stnicholaswarwick.org.uk/index.php/event/brownies-7/
END:VEVENT
BEGIN:VEVENT
DTSTART;TZID=Europe/London:20251103T193000
DTEND;TZID=Europe/London:20251103T210000
DTSTAMP:20260421T084722
CREATED:20250710T115657Z
LAST-MODIFIED:20250710T115657Z
UID:242490-1762198200-1762203600@www.stnicholaswarwick.org.uk
SUMMARY:Guides
DESCRIPTION:
URL:https://www.stnicholaswarwick.org.uk/index.php/event/guides-6/
END:VEVENT
BEGIN:VEVENT
DTSTART;TZID=Europe/London:20251105T100000
DTEND;TZID=Europe/London:20251105T113000
DTSTAMP:20260421T084722
CREATED:20250708T112809Z
LAST-MODIFIED:20250708T112809Z
UID:242300-1762336800-1762342200@www.stnicholaswarwick.org.uk
SUMMARY:Toddler Group
DESCRIPTION:
URL:https://www.stnicholaswarwick.org.uk/index.php/event/toddler-group-31/
END:VEVENT
BEGIN:VEVENT
DTSTART;TZID=Europe/London:20251105T190000
DTEND;TZID=Europe/London:20251105T210000
DTSTAMP:20260421T084722
CREATED:20250715T110451Z
LAST-MODIFIED:20251009T092501Z
UID:242600-1762369200-1762376400@www.stnicholaswarwick.org.uk
SUMMARY:Bell Ringing Practice
DESCRIPTION:
URL:https://www.stnicholaswarwick.org.uk/index.php/event/bell-ringing-practice-17/
END:VEVENT
BEGIN:VEVENT
DTSTART;TZID=Europe/London:20251107T180000
DTEND;TZID=Europe/London:20251107T190000
DTSTAMP:20260421T084722
CREATED:20250715T113942Z
LAST-MODIFIED:20250715T113942Z
UID:242656-1762538400-1762542000@www.stnicholaswarwick.org.uk
SUMMARY:Rainbows
DESCRIPTION:
URL:https://www.stnicholaswarwick.org.uk/index.php/event/rainbows-9/
END:VEVENT
BEGIN:VEVENT
DTSTART;TZID=Europe/London:20251107T190000
DTEND;TZID=Europe/London:20251107T200000
DTSTAMP:20260421T084722
CREATED:20250715T115747Z
LAST-MODIFIED:20250715T115747Z
UID:242708-1762542000-1762545600@www.stnicholaswarwick.org.uk
SUMMARY:Choir Practice
DESCRIPTION:
URL:https://www.stnicholaswarwick.org.uk/index.php/event/choir-practice-19/
END:VEVENT
BEGIN:VEVENT
DTSTART;TZID=Europe/London:20251107T190000
DTEND;TZID=Europe/London:20251107T213000
DTSTAMP:20260421T084722
CREATED:20250715T102829Z
LAST-MODIFIED:20250912T120750Z
UID:242540-1762542000-1762551000@www.stnicholaswarwick.org.uk
SUMMARY:Rangers
DESCRIPTION:
URL:https://www.stnicholaswarwick.org.uk/index.php/event/rangers-8/
END:VEVENT
BEGIN:VEVENT
DTSTART;TZID=Europe/London:20251110T100000
DTEND;TZID=Europe/London:20251110T123000
DTSTAMP:20260421T084722
CREATED:20250708T120800Z
LAST-MODIFIED:20250708T120800Z
UID:242412-1762768800-1762777800@www.stnicholaswarwick.org.uk
SUMMARY:Men's Shed LEE
DESCRIPTION:
URL:https://www.stnicholaswarwick.org.uk/index.php/event/mens-shed-lee-12/
END:VEVENT
BEGIN:VEVENT
DTSTART;TZID=Europe/London:20251110T180000
DTEND;TZID=Europe/London:20251110T193000
DTSTAMP:20260421T084722
CREATED:20250710T115731Z
LAST-MODIFIED:20250710T115731Z
UID:242492-1762797600-1762803000@www.stnicholaswarwick.org.uk
SUMMARY:Brownies
DESCRIPTION:
URL:https://www.stnicholaswarwick.org.uk/index.php/event/brownies-8/
END:VEVENT
BEGIN:VEVENT
DTSTART;TZID=Europe/London:20251110T193000
DTEND;TZID=Europe/London:20251110T210000
DTSTAMP:20260421T084722
CREATED:20250710T115758Z
LAST-MODIFIED:20250710T115758Z
UID:242494-1762803000-1762808400@www.stnicholaswarwick.org.uk
SUMMARY:Guides
DESCRIPTION:
URL:https://www.stnicholaswarwick.org.uk/index.php/event/guides-7/
END:VEVENT
BEGIN:VEVENT
DTSTART;TZID=Europe/London:20251112T100000
DTEND;TZID=Europe/London:20251112T113000
DTSTAMP:20260421T084722
CREATED:20250708T113231Z
LAST-MODIFIED:20250708T113231Z
UID:242304-1762941600-1762947000@www.stnicholaswarwick.org.uk
SUMMARY:Toddler Group
DESCRIPTION:
URL:https://www.stnicholaswarwick.org.uk/index.php/event/toddler-group-32/
END:VEVENT
BEGIN:VEVENT
DTSTART;TZID=Europe/London:20251112T190000
DTEND;TZID=Europe/London:20251112T210000
DTSTAMP:20260421T084722
CREATED:20250715T110513Z
LAST-MODIFIED:20251009T092434Z
UID:242602-1762974000-1762981200@www.stnicholaswarwick.org.uk
SUMMARY:Bell Ringing Practice
DESCRIPTION:
URL:https://www.stnicholaswarwick.org.uk/index.php/event/bell-ringing-practice-18/
END:VEVENT
BEGIN:VEVENT
DTSTART;TZID=Europe/London:20251114T180000
DTEND;TZID=Europe/London:20251114T190000
DTSTAMP:20260421T084722
CREATED:20250715T114031Z
LAST-MODIFIED:20250715T114031Z
UID:242658-1763143200-1763146800@www.stnicholaswarwick.org.uk
SUMMARY:Rainbows
DESCRIPTION:
URL:https://www.stnicholaswarwick.org.uk/index.php/event/rainbows-10/
END:VEVENT
BEGIN:VEVENT
DTSTART;TZID=Europe/London:20251114T190000
DTEND;TZID=Europe/London:20251114T200000
DTSTAMP:20260421T084722
CREATED:20250715T115812Z
LAST-MODIFIED:20250715T115812Z
UID:242710-1763146800-1763150400@www.stnicholaswarwick.org.uk
SUMMARY:Choir Practice
DESCRIPTION:
URL:https://www.stnicholaswarwick.org.uk/index.php/event/choir-practice-20/
END:VEVENT
BEGIN:VEVENT
DTSTART;TZID=Europe/London:20251114T190000
DTEND;TZID=Europe/London:20251114T213000
DTSTAMP:20260421T084722
CREATED:20250715T102901Z
LAST-MODIFIED:20250912T120716Z
UID:242542-1763146800-1763155800@www.stnicholaswarwick.org.uk
SUMMARY:Rangers
DESCRIPTION:
URL:https://www.stnicholaswarwick.org.uk/index.php/event/rangers-9/
END:VEVENT
BEGIN:VEVENT
DTSTART;TZID=Europe/London:20251117T100000
DTEND;TZID=Europe/London:20251117T123000
DTSTAMP:20260421T084722
CREATED:20250708T120837Z
LAST-MODIFIED:20250708T120837Z
UID:242414-1763373600-1763382600@www.stnicholaswarwick.org.uk
SUMMARY:Men's Shed LEE
DESCRIPTION:
URL:https://www.stnicholaswarwick.org.uk/index.php/event/mens-shed-lee-13/
END:VEVENT
BEGIN:VEVENT
DTSTART;TZID=Europe/London:20251117T180000
DTEND;TZID=Europe/London:20251117T193000
DTSTAMP:20260421T084722
CREATED:20250710T115825Z
LAST-MODIFIED:20250710T115825Z
UID:242496-1763402400-1763407800@www.stnicholaswarwick.org.uk
SUMMARY:Brownies
DESCRIPTION:
URL:https://www.stnicholaswarwick.org.uk/index.php/event/brownies-9/
END:VEVENT
BEGIN:VEVENT
DTSTART;TZID=Europe/London:20251117T193000
DTEND;TZID=Europe/London:20251117T210000
DTSTAMP:20260421T084722
CREATED:20250710T115926Z
LAST-MODIFIED:20250710T115926Z
UID:242499-1763407800-1763413200@www.stnicholaswarwick.org.uk
SUMMARY:Guides
DESCRIPTION:
URL:https://www.stnicholaswarwick.org.uk/index.php/event/guides-8/
END:VEVENT
BEGIN:VEVENT
DTSTART;TZID=Europe/London:20251119T100000
DTEND;TZID=Europe/London:20251119T113000
DTSTAMP:20260421T084722
CREATED:20250708T113320Z
LAST-MODIFIED:20250708T113320Z
UID:242308-1763546400-1763551800@www.stnicholaswarwick.org.uk
SUMMARY:Toddler Group
DESCRIPTION:
URL:https://www.stnicholaswarwick.org.uk/index.php/event/toddler-group-33/
END:VEVENT
BEGIN:VEVENT
DTSTART;TZID=Europe/London:20251119T100000
DTEND;TZID=Europe/London:20251119T113000
DTSTAMP:20260421T084722
CREATED:20250708T113424Z
LAST-MODIFIED:20250708T113424Z
UID:242312-1763546400-1763551800@www.stnicholaswarwick.org.uk
SUMMARY:Toddler Group
DESCRIPTION:
URL:https://www.stnicholaswarwick.org.uk/index.php/event/toddler-group-34/
END:VEVENT
BEGIN:VEVENT
DTSTART;TZID=Europe/London:20251119T190000
DTEND;TZID=Europe/London:20251119T210000
DTSTAMP:20260421T084722
CREATED:20250715T110545Z
LAST-MODIFIED:20251009T092400Z
UID:242604-1763578800-1763586000@www.stnicholaswarwick.org.uk
SUMMARY:Bell Ringing Practice
DESCRIPTION:
URL:https://www.stnicholaswarwick.org.uk/index.php/event/bell-ringing-practice-19/
END:VEVENT
BEGIN:VEVENT
DTSTART;TZID=Europe/London:20251121T180000
DTEND;TZID=Europe/London:20251121T190000
DTSTAMP:20260421T084722
CREATED:20250715T114053Z
LAST-MODIFIED:20250715T114053Z
UID:242660-1763748000-1763751600@www.stnicholaswarwick.org.uk
SUMMARY:Rainbows
DESCRIPTION:
URL:https://www.stnicholaswarwick.org.uk/index.php/event/rainbows-11/
END:VEVENT
BEGIN:VEVENT
DTSTART;TZID=Europe/London:20251121T190000
DTEND;TZID=Europe/London:20251121T200000
DTSTAMP:20260421T084722
CREATED:20250715T115856Z
LAST-MODIFIED:20250715T115856Z
UID:242712-1763751600-1763755200@www.stnicholaswarwick.org.uk
SUMMARY:Choir Practice
DESCRIPTION:
URL:https://www.stnicholaswarwick.org.uk/index.php/event/choir-practice-21/
END:VEVENT
BEGIN:VEVENT
DTSTART;TZID=Europe/London:20251121T190000
DTEND;TZID=Europe/London:20251121T213000
DTSTAMP:20260421T084722
CREATED:20250715T102925Z
LAST-MODIFIED:20250912T120518Z
UID:242544-1763751600-1763760600@www.stnicholaswarwick.org.uk
SUMMARY:Rangers
DESCRIPTION:
URL:https://www.stnicholaswarwick.org.uk/index.php/event/rangers-10/
END:VEVENT
BEGIN:VEVENT
DTSTART;TZID=Europe/London:20251124T100000
DTEND;TZID=Europe/London:20251124T123000
DTSTAMP:20260421T084722
CREATED:20250708T120903Z
LAST-MODIFIED:20250708T120903Z
UID:242416-1763978400-1763987400@www.stnicholaswarwick.org.uk
SUMMARY:Men's Shed LEE
DESCRIPTION:
URL:https://www.stnicholaswarwick.org.uk/index.php/event/mens-shed-lee-14/
END:VEVENT
BEGIN:VEVENT
DTSTART;TZID=Europe/London:20251124T180000
DTEND;TZID=Europe/London:20251124T193000
DTSTAMP:20260421T084722
CREATED:20250710T115951Z
LAST-MODIFIED:20250710T115951Z
UID:242501-1764007200-1764012600@www.stnicholaswarwick.org.uk
SUMMARY:Brownies
DESCRIPTION:
URL:https://www.stnicholaswarwick.org.uk/index.php/event/brownies-10/
END:VEVENT
BEGIN:VEVENT
DTSTART;TZID=Europe/London:20251124T193000
DTEND;TZID=Europe/London:20251124T210000
DTSTAMP:20260421T084722
CREATED:20250710T120023Z
LAST-MODIFIED:20250710T120023Z
UID:242503-1764012600-1764018000@www.stnicholaswarwick.org.uk
SUMMARY:Guides
DESCRIPTION:
URL:https://www.stnicholaswarwick.org.uk/index.php/event/guides-9/
END:VEVENT
BEGIN:VEVENT
DTSTART;TZID=Europe/London:20251126T100000
DTEND;TZID=Europe/London:20251126T113000
DTSTAMP:20260421T084722
CREATED:20250708T113517Z
LAST-MODIFIED:20250708T113517Z
UID:242316-1764151200-1764156600@www.stnicholaswarwick.org.uk
SUMMARY:Toddler Group
DESCRIPTION:
URL:https://www.stnicholaswarwick.org.uk/index.php/event/toddler-group-35/
END:VEVENT
END:VCALENDAR