BEGIN:VCALENDAR
VERSION:2.0
PRODID:-//St Nicholas Church Warwick - ECPv6.15.20//NONSGML v1.0//EN
CALSCALE:GREGORIAN
METHOD:PUBLISH
X-WR-CALNAME:St Nicholas Church Warwick
X-ORIGINAL-URL:https://www.stnicholaswarwick.org.uk
X-WR-CALDESC:Events for St Nicholas Church Warwick
REFRESH-INTERVAL;VALUE=DURATION:PT1H
X-Robots-Tag:noindex
X-PUBLISHED-TTL:PT1H
BEGIN:VTIMEZONE
TZID:Europe/London
BEGIN:DAYLIGHT
TZOFFSETFROM:+0000
TZOFFSETTO:+0100
TZNAME:BST
DTSTART:20250330T010000
END:DAYLIGHT
BEGIN:STANDARD
TZOFFSETFROM:+0100
TZOFFSETTO:+0000
TZNAME:GMT
DTSTART:20251026T010000
END:STANDARD
BEGIN:DAYLIGHT
TZOFFSETFROM:+0000
TZOFFSETTO:+0100
TZNAME:BST
DTSTART:20260329T010000
END:DAYLIGHT
BEGIN:STANDARD
TZOFFSETFROM:+0100
TZOFFSETTO:+0000
TZNAME:GMT
DTSTART:20261025T010000
END:STANDARD
BEGIN:DAYLIGHT
TZOFFSETFROM:+0000
TZOFFSETTO:+0100
TZNAME:BST
DTSTART:20270328T010000
END:DAYLIGHT
BEGIN:STANDARD
TZOFFSETFROM:+0100
TZOFFSETTO:+0000
TZNAME:GMT
DTSTART:20271031T010000
END:STANDARD
END:VTIMEZONE
BEGIN:VEVENT
DTSTART;TZID=Europe/London:20260803T103000
DTEND;TZID=Europe/London:20260803T123000
DTSTAMP:20260419T192325
CREATED:20260116T124121Z
LAST-MODIFIED:20260116T124121Z
UID:242969-1785753000-1785760200@www.stnicholaswarwick.org.uk
SUMMARY:Men's Shed
DESCRIPTION:
URL:https://www.stnicholaswarwick.org.uk/index.php/event/mens-shed-65/
END:VEVENT
BEGIN:VEVENT
DTSTART;TZID=Europe/London:20260805T190000
DTEND;TZID=Europe/London:20260805T210000
DTSTAMP:20260419T192325
CREATED:20260122T115142Z
LAST-MODIFIED:20260122T115142Z
UID:243303-1785956400-1785963600@www.stnicholaswarwick.org.uk
SUMMARY:Bell ringing practice
DESCRIPTION:
URL:https://www.stnicholaswarwick.org.uk/index.php/event/bell-ringing-practice-49/
END:VEVENT
BEGIN:VEVENT
DTSTART;TZID=Europe/London:20260807T190000
DTEND;TZID=Europe/London:20260807T200000
DTSTAMP:20260419T192325
CREATED:20260123T120824Z
LAST-MODIFIED:20260123T120824Z
UID:243546-1786129200-1786132800@www.stnicholaswarwick.org.uk
SUMMARY:Choir practice
DESCRIPTION:
URL:https://www.stnicholaswarwick.org.uk/index.php/event/choir-practice-52/
END:VEVENT
BEGIN:VEVENT
DTSTART;TZID=Europe/London:20260810T103000
DTEND;TZID=Europe/London:20260810T123000
DTSTAMP:20260419T192325
CREATED:20260116T124145Z
LAST-MODIFIED:20260116T124145Z
UID:242971-1786357800-1786365000@www.stnicholaswarwick.org.uk
SUMMARY:Men's Shed
DESCRIPTION:
URL:https://www.stnicholaswarwick.org.uk/index.php/event/mens-shed-66/
END:VEVENT
BEGIN:VEVENT
DTSTART;TZID=Europe/London:20260812T190000
DTEND;TZID=Europe/London:20260812T210000
DTSTAMP:20260419T192325
CREATED:20260122T115210Z
LAST-MODIFIED:20260122T115210Z
UID:243305-1786561200-1786568400@www.stnicholaswarwick.org.uk
SUMMARY:Bell ringing practice
DESCRIPTION:
URL:https://www.stnicholaswarwick.org.uk/index.php/event/bell-ringing-practice-50/
END:VEVENT
BEGIN:VEVENT
DTSTART;TZID=Europe/London:20260814T190000
DTEND;TZID=Europe/London:20260814T200000
DTSTAMP:20260419T192325
CREATED:20260123T120848Z
LAST-MODIFIED:20260123T120848Z
UID:243548-1786734000-1786737600@www.stnicholaswarwick.org.uk
SUMMARY:Choir practice
DESCRIPTION:
URL:https://www.stnicholaswarwick.org.uk/index.php/event/choir-practice-53/
END:VEVENT
BEGIN:VEVENT
DTSTART;TZID=Europe/London:20260817T103000
DTEND;TZID=Europe/London:20260817T123000
DTSTAMP:20260419T192325
CREATED:20260116T124214Z
LAST-MODIFIED:20260116T124214Z
UID:242973-1786962600-1786969800@www.stnicholaswarwick.org.uk
SUMMARY:Men's Shed
DESCRIPTION:
URL:https://www.stnicholaswarwick.org.uk/index.php/event/mens-shed-67/
END:VEVENT
BEGIN:VEVENT
DTSTART;TZID=Europe/London:20260819T190000
DTEND;TZID=Europe/London:20260819T210000
DTSTAMP:20260419T192325
CREATED:20260122T115237Z
LAST-MODIFIED:20260122T115237Z
UID:243307-1787166000-1787173200@www.stnicholaswarwick.org.uk
SUMMARY:Bell ringing practice
DESCRIPTION:
URL:https://www.stnicholaswarwick.org.uk/index.php/event/bell-ringing-practice-51/
END:VEVENT
BEGIN:VEVENT
DTSTART;TZID=Europe/London:20260821T190000
DTEND;TZID=Europe/London:20260821T200000
DTSTAMP:20260419T192325
CREATED:20260123T120913Z
LAST-MODIFIED:20260123T120913Z
UID:243550-1787338800-1787342400@www.stnicholaswarwick.org.uk
SUMMARY:Choir practice
DESCRIPTION:
URL:https://www.stnicholaswarwick.org.uk/index.php/event/choir-practice-54/
END:VEVENT
BEGIN:VEVENT
DTSTART;TZID=Europe/London:20260824T103000
DTEND;TZID=Europe/London:20260824T123000
DTSTAMP:20260419T192325
CREATED:20260116T124241Z
LAST-MODIFIED:20260116T124241Z
UID:242975-1787567400-1787574600@www.stnicholaswarwick.org.uk
SUMMARY:Men's Shed
DESCRIPTION:
URL:https://www.stnicholaswarwick.org.uk/index.php/event/mens-shed-68/
END:VEVENT
BEGIN:VEVENT
DTSTART;TZID=Europe/London:20260826T190000
DTEND;TZID=Europe/London:20260826T210000
DTSTAMP:20260419T192325
CREATED:20260122T115311Z
LAST-MODIFIED:20260122T115311Z
UID:243309-1787770800-1787778000@www.stnicholaswarwick.org.uk
SUMMARY:Bell ringing practice
DESCRIPTION:
URL:https://www.stnicholaswarwick.org.uk/index.php/event/bell-ringing-practice-52/
END:VEVENT
BEGIN:VEVENT
DTSTART;TZID=Europe/London:20260828T190000
DTEND;TZID=Europe/London:20260828T200000
DTSTAMP:20260419T192325
CREATED:20260123T120939Z
LAST-MODIFIED:20260123T120939Z
UID:243552-1787943600-1787947200@www.stnicholaswarwick.org.uk
SUMMARY:Choir practice
DESCRIPTION:
URL:https://www.stnicholaswarwick.org.uk/index.php/event/choir-practice-55/
END:VEVENT
END:VCALENDAR