BEGIN:VCALENDAR
VERSION:2.0
PRODID:-//St Nicholas Church Warwick - ECPv6.15.20//NONSGML v1.0//EN
CALSCALE:GREGORIAN
METHOD:PUBLISH
X-ORIGINAL-URL:https://www.stnicholaswarwick.org.uk
X-WR-CALDESC:Events for St Nicholas Church Warwick
REFRESH-INTERVAL;VALUE=DURATION:PT1H
X-Robots-Tag:noindex
X-PUBLISHED-TTL:PT1H
BEGIN:VTIMEZONE
TZID:Europe/London
BEGIN:DAYLIGHT
TZOFFSETFROM:+0000
TZOFFSETTO:+0100
TZNAME:BST
DTSTART:20250330T010000
END:DAYLIGHT
BEGIN:STANDARD
TZOFFSETFROM:+0100
TZOFFSETTO:+0000
TZNAME:GMT
DTSTART:20251026T010000
END:STANDARD
BEGIN:DAYLIGHT
TZOFFSETFROM:+0000
TZOFFSETTO:+0100
TZNAME:BST
DTSTART:20260329T010000
END:DAYLIGHT
BEGIN:STANDARD
TZOFFSETFROM:+0100
TZOFFSETTO:+0000
TZNAME:GMT
DTSTART:20261025T010000
END:STANDARD
BEGIN:DAYLIGHT
TZOFFSETFROM:+0000
TZOFFSETTO:+0100
TZNAME:BST
DTSTART:20270328T010000
END:DAYLIGHT
BEGIN:STANDARD
TZOFFSETFROM:+0100
TZOFFSETTO:+0000
TZNAME:GMT
DTSTART:20271031T010000
END:STANDARD
END:VTIMEZONE
BEGIN:VEVENT
DTSTART;TZID=Europe/London:20260902T100000
DTEND;TZID=Europe/London:20260902T113000
DTSTAMP:20260419T205948
CREATED:20260120T130724Z
LAST-MODIFIED:20260120T130724Z
UID:243223-1788343200-1788348600@www.stnicholaswarwick.org.uk
SUMMARY:Parent & Toddler Group
DESCRIPTION:
URL:https://www.stnicholaswarwick.org.uk/index.php/event/parent-toddler-group-17/
END:VEVENT
BEGIN:VEVENT
DTSTART;TZID=Europe/London:20260902T190000
DTEND;TZID=Europe/London:20260902T210000
DTSTAMP:20260419T205948
CREATED:20260122T115354Z
LAST-MODIFIED:20260122T115354Z
UID:243311-1788375600-1788382800@www.stnicholaswarwick.org.uk
SUMMARY:Bell ringing practice
DESCRIPTION:
URL:https://www.stnicholaswarwick.org.uk/index.php/event/bell-ringing-practice-53/
END:VEVENT
BEGIN:VEVENT
DTSTART;TZID=Europe/London:20260904T190000
DTEND;TZID=Europe/London:20260904T200000
DTSTAMP:20260419T205948
CREATED:20260123T121004Z
LAST-MODIFIED:20260123T121004Z
UID:243554-1788548400-1788552000@www.stnicholaswarwick.org.uk
SUMMARY:Choir practice
DESCRIPTION:
URL:https://www.stnicholaswarwick.org.uk/index.php/event/choir-practice-56/
END:VEVENT
BEGIN:VEVENT
DTSTART;TZID=Europe/London:20260907T103000
DTEND;TZID=Europe/London:20260907T123000
DTSTAMP:20260419T205948
CREATED:20260116T124312Z
LAST-MODIFIED:20260116T124312Z
UID:242977-1788777000-1788784200@www.stnicholaswarwick.org.uk
SUMMARY:Men's Shed
DESCRIPTION:
URL:https://www.stnicholaswarwick.org.uk/index.php/event/mens-shed-69/
END:VEVENT
BEGIN:VEVENT
DTSTART;TZID=Europe/London:20260907T180000
DTEND;TZID=Europe/London:20260907T193000
DTSTAMP:20260419T205948
CREATED:20260120T122732Z
LAST-MODIFIED:20260120T122732Z
UID:243121-1788804000-1788809400@www.stnicholaswarwick.org.uk
SUMMARY:Brownies
DESCRIPTION:
URL:https://www.stnicholaswarwick.org.uk/index.php/event/brownies-36/
END:VEVENT
BEGIN:VEVENT
DTSTART;TZID=Europe/London:20260907T193000
DTEND;TZID=Europe/London:20260907T210000
DTSTAMP:20260419T205948
CREATED:20260120T122919Z
LAST-MODIFIED:20260120T122919Z
UID:243123-1788809400-1788814800@www.stnicholaswarwick.org.uk
SUMMARY:Guides
DESCRIPTION:
URL:https://www.stnicholaswarwick.org.uk/index.php/event/guides-35/
END:VEVENT
BEGIN:VEVENT
DTSTART;TZID=Europe/London:20260909T100000
DTEND;TZID=Europe/London:20260909T113000
DTSTAMP:20260419T205948
CREATED:20260120T130749Z
LAST-MODIFIED:20260120T130749Z
UID:243225-1788948000-1788953400@www.stnicholaswarwick.org.uk
SUMMARY:Parent & Toddler Group
DESCRIPTION:
URL:https://www.stnicholaswarwick.org.uk/index.php/event/parent-toddler-group-18/
END:VEVENT
BEGIN:VEVENT
DTSTART;TZID=Europe/London:20260909T190000
DTEND;TZID=Europe/London:20260909T210000
DTSTAMP:20260419T205948
CREATED:20260122T115432Z
LAST-MODIFIED:20260122T115432Z
UID:243313-1788980400-1788987600@www.stnicholaswarwick.org.uk
SUMMARY:Bell ringing practice
DESCRIPTION:
URL:https://www.stnicholaswarwick.org.uk/index.php/event/bell-ringing-practice-54/
END:VEVENT
BEGIN:VEVENT
DTSTART;TZID=Europe/London:20260911T180000
DTEND;TZID=Europe/London:20260911T190000
DTSTAMP:20260419T205948
CREATED:20260122T131242Z
LAST-MODIFIED:20260122T131242Z
UID:243435-1789149600-1789153200@www.stnicholaswarwick.org.uk
SUMMARY:Rainbows
DESCRIPTION:
URL:https://www.stnicholaswarwick.org.uk/index.php/event/rainbows-38/
END:VEVENT
BEGIN:VEVENT
DTSTART;TZID=Europe/London:20260911T190000
DTEND;TZID=Europe/London:20260911T200000
DTSTAMP:20260419T205948
CREATED:20260123T121031Z
LAST-MODIFIED:20260123T121031Z
UID:243556-1789153200-1789156800@www.stnicholaswarwick.org.uk
SUMMARY:Choir practice
DESCRIPTION:
URL:https://www.stnicholaswarwick.org.uk/index.php/event/choir-practice-57/
END:VEVENT
BEGIN:VEVENT
DTSTART;TZID=Europe/London:20260911T190000
DTEND;TZID=Europe/London:20260911T213000
DTSTAMP:20260419T205948
CREATED:20260122T131306Z
LAST-MODIFIED:20260122T131306Z
UID:243437-1789153200-1789162200@www.stnicholaswarwick.org.uk
SUMMARY:Rangers
DESCRIPTION:
URL:https://www.stnicholaswarwick.org.uk/index.php/event/rangers-37/
END:VEVENT
BEGIN:VEVENT
DTSTART;TZID=Europe/London:20260914T103000
DTEND;TZID=Europe/London:20260914T123000
DTSTAMP:20260419T205948
CREATED:20260116T124339Z
LAST-MODIFIED:20260116T124339Z
UID:242979-1789381800-1789389000@www.stnicholaswarwick.org.uk
SUMMARY:Men's Shed
DESCRIPTION:
URL:https://www.stnicholaswarwick.org.uk/index.php/event/mens-shed-70/
END:VEVENT
BEGIN:VEVENT
DTSTART;TZID=Europe/London:20260914T180000
DTEND;TZID=Europe/London:20260914T193000
DTSTAMP:20260419T205948
CREATED:20260120T123001Z
LAST-MODIFIED:20260120T123001Z
UID:243125-1789408800-1789414200@www.stnicholaswarwick.org.uk
SUMMARY:Brownies
DESCRIPTION:
URL:https://www.stnicholaswarwick.org.uk/index.php/event/brownies-37/
END:VEVENT
BEGIN:VEVENT
DTSTART;TZID=Europe/London:20260914T193000
DTEND;TZID=Europe/London:20260914T210000
DTSTAMP:20260419T205948
CREATED:20260120T123037Z
LAST-MODIFIED:20260120T123037Z
UID:243127-1789414200-1789419600@www.stnicholaswarwick.org.uk
SUMMARY:Guides
DESCRIPTION:
URL:https://www.stnicholaswarwick.org.uk/index.php/event/guides-36/
END:VEVENT
BEGIN:VEVENT
DTSTART;TZID=Europe/London:20260916T100000
DTEND;TZID=Europe/London:20260916T113000
DTSTAMP:20260419T205948
CREATED:20260120T130817Z
LAST-MODIFIED:20260120T130817Z
UID:243227-1789552800-1789558200@www.stnicholaswarwick.org.uk
SUMMARY:Parent & Toddler Group
DESCRIPTION:
URL:https://www.stnicholaswarwick.org.uk/index.php/event/parent-toddler-group-19/
END:VEVENT
BEGIN:VEVENT
DTSTART;TZID=Europe/London:20260916T190000
DTEND;TZID=Europe/London:20260916T210000
DTSTAMP:20260419T205948
CREATED:20260122T120023Z
LAST-MODIFIED:20260122T120023Z
UID:243315-1789585200-1789592400@www.stnicholaswarwick.org.uk
SUMMARY:Bell ringing practice
DESCRIPTION:
URL:https://www.stnicholaswarwick.org.uk/index.php/event/bell-ringing-practice-55/
END:VEVENT
BEGIN:VEVENT
DTSTART;TZID=Europe/London:20260918T180000
DTEND;TZID=Europe/London:20260918T190000
DTSTAMP:20260419T205948
CREATED:20260122T131331Z
LAST-MODIFIED:20260122T131331Z
UID:243439-1789754400-1789758000@www.stnicholaswarwick.org.uk
SUMMARY:Rainbows
DESCRIPTION:
URL:https://www.stnicholaswarwick.org.uk/index.php/event/rainbows-39/
END:VEVENT
BEGIN:VEVENT
DTSTART;TZID=Europe/London:20260918T190000
DTEND;TZID=Europe/London:20260918T200000
DTSTAMP:20260419T205948
CREATED:20260123T121101Z
LAST-MODIFIED:20260123T121101Z
UID:243558-1789758000-1789761600@www.stnicholaswarwick.org.uk
SUMMARY:Choir practice
DESCRIPTION:
URL:https://www.stnicholaswarwick.org.uk/index.php/event/choir-practice-58/
END:VEVENT
BEGIN:VEVENT
DTSTART;TZID=Europe/London:20260918T190000
DTEND;TZID=Europe/London:20260918T213000
DTSTAMP:20260419T205948
CREATED:20260122T131357Z
LAST-MODIFIED:20260122T131357Z
UID:243441-1789758000-1789767000@www.stnicholaswarwick.org.uk
SUMMARY:Rangers
DESCRIPTION:
URL:https://www.stnicholaswarwick.org.uk/index.php/event/rangers-38/
END:VEVENT
BEGIN:VEVENT
DTSTART;TZID=Europe/London:20260921T103000
DTEND;TZID=Europe/London:20260921T123000
DTSTAMP:20260419T205948
CREATED:20260116T124423Z
LAST-MODIFIED:20260116T124423Z
UID:242981-1789986600-1789993800@www.stnicholaswarwick.org.uk
SUMMARY:Men's Shed
DESCRIPTION:
URL:https://www.stnicholaswarwick.org.uk/index.php/event/mens-shed-71/
END:VEVENT
BEGIN:VEVENT
DTSTART;TZID=Europe/London:20260921T180000
DTEND;TZID=Europe/London:20260921T193000
DTSTAMP:20260419T205948
CREATED:20260120T123128Z
LAST-MODIFIED:20260120T123128Z
UID:243129-1790013600-1790019000@www.stnicholaswarwick.org.uk
SUMMARY:Brownies
DESCRIPTION:
URL:https://www.stnicholaswarwick.org.uk/index.php/event/brownies-38/
END:VEVENT
BEGIN:VEVENT
DTSTART;TZID=Europe/London:20260921T193000
DTEND;TZID=Europe/London:20260921T210000
DTSTAMP:20260419T205948
CREATED:20260120T123154Z
LAST-MODIFIED:20260120T123154Z
UID:243131-1790019000-1790024400@www.stnicholaswarwick.org.uk
SUMMARY:Guides
DESCRIPTION:
URL:https://www.stnicholaswarwick.org.uk/index.php/event/guides-37/
END:VEVENT
BEGIN:VEVENT
DTSTART;TZID=Europe/London:20260923T110000
DTEND;TZID=Europe/London:20260923T113000
DTSTAMP:20260419T205948
CREATED:20260120T130854Z
LAST-MODIFIED:20260120T130854Z
UID:243229-1790161200-1790163000@www.stnicholaswarwick.org.uk
SUMMARY:Parent & Toddler Group
DESCRIPTION:
URL:https://www.stnicholaswarwick.org.uk/index.php/event/parent-toddler-group-20/
END:VEVENT
BEGIN:VEVENT
DTSTART;TZID=Europe/London:20260923T190000
DTEND;TZID=Europe/London:20260923T210000
DTSTAMP:20260419T205948
CREATED:20260122T120050Z
LAST-MODIFIED:20260122T120050Z
UID:243317-1790190000-1790197200@www.stnicholaswarwick.org.uk
SUMMARY:Bell ringing practice
DESCRIPTION:
URL:https://www.stnicholaswarwick.org.uk/index.php/event/bell-ringing-practice-56/
END:VEVENT
BEGIN:VEVENT
DTSTART;TZID=Europe/London:20260924T140000
DTEND;TZID=Europe/London:20260924T160000
DTSTAMP:20260419T205948
CREATED:20260116T125506Z
LAST-MODIFIED:20260116T125506Z
UID:243021-1790258400-1790265600@www.stnicholaswarwick.org.uk
SUMMARY:WI Craft Group
DESCRIPTION:
URL:https://www.stnicholaswarwick.org.uk/index.php/event/wi-craft-group-18/
END:VEVENT
BEGIN:VEVENT
DTSTART;TZID=Europe/London:20260925T180000
DTEND;TZID=Europe/London:20260925T190000
DTSTAMP:20260419T205948
CREATED:20260122T131421Z
LAST-MODIFIED:20260122T131421Z
UID:243443-1790359200-1790362800@www.stnicholaswarwick.org.uk
SUMMARY:Rainbows
DESCRIPTION:
URL:https://www.stnicholaswarwick.org.uk/index.php/event/rainbows-40/
END:VEVENT
BEGIN:VEVENT
DTSTART;TZID=Europe/London:20260925T190000
DTEND;TZID=Europe/London:20260925T200000
DTSTAMP:20260419T205948
CREATED:20260123T121124Z
LAST-MODIFIED:20260123T121124Z
UID:243560-1790362800-1790366400@www.stnicholaswarwick.org.uk
SUMMARY:Choir practice
DESCRIPTION:
URL:https://www.stnicholaswarwick.org.uk/index.php/event/choir-practice-59/
END:VEVENT
BEGIN:VEVENT
DTSTART;TZID=Europe/London:20260925T190000
DTEND;TZID=Europe/London:20260925T213000
DTSTAMP:20260419T205948
CREATED:20260122T131451Z
LAST-MODIFIED:20260122T131451Z
UID:243445-1790362800-1790371800@www.stnicholaswarwick.org.uk
SUMMARY:Rangers
DESCRIPTION:
URL:https://www.stnicholaswarwick.org.uk/index.php/event/rangers-39/
END:VEVENT
BEGIN:VEVENT
DTSTART;TZID=Europe/London:20260928T103000
DTEND;TZID=Europe/London:20260928T123000
DTSTAMP:20260419T205948
CREATED:20260116T124507Z
LAST-MODIFIED:20260116T124507Z
UID:242983-1790591400-1790598600@www.stnicholaswarwick.org.uk
SUMMARY:Men's Shed
DESCRIPTION:
URL:https://www.stnicholaswarwick.org.uk/index.php/event/mens-shed-72/
END:VEVENT
BEGIN:VEVENT
DTSTART;TZID=Europe/London:20260928T180000
DTEND;TZID=Europe/London:20260928T193000
DTSTAMP:20260419T205948
CREATED:20260120T123231Z
LAST-MODIFIED:20260120T123231Z
UID:243133-1790618400-1790623800@www.stnicholaswarwick.org.uk
SUMMARY:Brownies
DESCRIPTION:
URL:https://www.stnicholaswarwick.org.uk/index.php/event/brownies-39/
END:VEVENT
END:VCALENDAR