BEGIN:VCALENDAR
VERSION:2.0
PRODID:-//St Nicholas Church Warwick - ECPv6.15.20//NONSGML v1.0//EN
CALSCALE:GREGORIAN
METHOD:PUBLISH
X-ORIGINAL-URL:https://www.stnicholaswarwick.org.uk
X-WR-CALDESC:Events for St Nicholas Church Warwick
REFRESH-INTERVAL;VALUE=DURATION:PT1H
X-Robots-Tag:noindex
X-PUBLISHED-TTL:PT1H
BEGIN:VTIMEZONE
TZID:Europe/London
BEGIN:DAYLIGHT
TZOFFSETFROM:+0000
TZOFFSETTO:+0100
TZNAME:BST
DTSTART:20250330T010000
END:DAYLIGHT
BEGIN:STANDARD
TZOFFSETFROM:+0100
TZOFFSETTO:+0000
TZNAME:GMT
DTSTART:20251026T010000
END:STANDARD
BEGIN:DAYLIGHT
TZOFFSETFROM:+0000
TZOFFSETTO:+0100
TZNAME:BST
DTSTART:20260329T010000
END:DAYLIGHT
BEGIN:STANDARD
TZOFFSETFROM:+0100
TZOFFSETTO:+0000
TZNAME:GMT
DTSTART:20261025T010000
END:STANDARD
BEGIN:DAYLIGHT
TZOFFSETFROM:+0000
TZOFFSETTO:+0100
TZNAME:BST
DTSTART:20270328T010000
END:DAYLIGHT
BEGIN:STANDARD
TZOFFSETFROM:+0100
TZOFFSETTO:+0000
TZNAME:GMT
DTSTART:20271031T010000
END:STANDARD
END:VTIMEZONE
BEGIN:VEVENT
DTSTART;TZID=Europe/London:20260419T100000
DTEND;TZID=Europe/London:20260419T110000
DTSTAMP:20260419T133321
CREATED:20260219T133911Z
LAST-MODIFIED:20260219T133911Z
UID:243645-1776592800-1776596400@www.stnicholaswarwick.org.uk
SUMMARY:Holy Communion followed by refreshments
DESCRIPTION:
URL:https://www.stnicholaswarwick.org.uk/index.php/event/holy-communion-followed-by-refreshments-45/
END:VEVENT
BEGIN:VEVENT
DTSTART;TZID=Europe/London:20260419T150000
DTEND;TZID=Europe/London:20260419T170000
DTSTAMP:20260419T133321
CREATED:20260112T122046Z
LAST-MODIFIED:20260112T122046Z
UID:242933-1776610800-1776618000@www.stnicholaswarwick.org.uk
SUMMARY:Lovecy Sunday Concert
DESCRIPTION:
URL:https://www.stnicholaswarwick.org.uk/index.php/event/lovecy-sunday-concert-20/
END:VEVENT
BEGIN:VEVENT
DTSTART;TZID=Europe/London:20260420T103000
DTEND;TZID=Europe/London:20260420T123000
DTSTAMP:20260419T133321
CREATED:20260112T121644Z
LAST-MODIFIED:20260112T121644Z
UID:242927-1776681000-1776688200@www.stnicholaswarwick.org.uk
SUMMARY:Men's Shed
DESCRIPTION:
URL:https://www.stnicholaswarwick.org.uk/index.php/event/mens-shed-52/
END:VEVENT
BEGIN:VEVENT
DTSTART;TZID=Europe/London:20260420T180000
DTEND;TZID=Europe/London:20260420T193000
DTSTAMP:20260419T133321
CREATED:20260116T130709Z
LAST-MODIFIED:20260116T130709Z
UID:243049-1776708000-1776713400@www.stnicholaswarwick.org.uk
SUMMARY:Brownies
DESCRIPTION:
URL:https://www.stnicholaswarwick.org.uk/index.php/event/brownies-25/
END:VEVENT
BEGIN:VEVENT
DTSTART;TZID=Europe/London:20260420T193000
DTEND;TZID=Europe/London:20260420T210000
DTSTAMP:20260419T133321
CREATED:20260116T134255Z
LAST-MODIFIED:20260116T134255Z
UID:243095-1776713400-1776718800@www.stnicholaswarwick.org.uk
SUMMARY:Guides
DESCRIPTION:
URL:https://www.stnicholaswarwick.org.uk/index.php/event/guides-24/
END:VEVENT
BEGIN:VEVENT
DTSTART;TZID=Europe/London:20260422T100000
DTEND;TZID=Europe/London:20260422T113000
DTSTAMP:20260419T133321
CREATED:20260120T125711Z
LAST-MODIFIED:20260120T125711Z
UID:243199-1776852000-1776857400@www.stnicholaswarwick.org.uk
SUMMARY:Parent & Toddler Group
DESCRIPTION:
URL:https://www.stnicholaswarwick.org.uk/index.php/event/parent-toddler-group-5/
END:VEVENT
BEGIN:VEVENT
DTSTART;TZID=Europe/London:20260422T190000
DTEND;TZID=Europe/London:20260422T210000
DTSTAMP:20260419T133321
CREATED:20260122T114216Z
LAST-MODIFIED:20260122T114216Z
UID:243273-1776884400-1776891600@www.stnicholaswarwick.org.uk
SUMMARY:Bell ringing practice
DESCRIPTION:
URL:https://www.stnicholaswarwick.org.uk/index.php/event/bell-ringing-practice-34/
END:VEVENT
BEGIN:VEVENT
DTSTART;TZID=Europe/London:20260423T140000
DTEND;TZID=Europe/London:20260423T160000
DTSTAMP:20260419T133321
CREATED:20260116T125252Z
LAST-MODIFIED:20260116T125252Z
UID:243013-1776952800-1776960000@www.stnicholaswarwick.org.uk
SUMMARY:WI Craft Group
DESCRIPTION:
URL:https://www.stnicholaswarwick.org.uk/index.php/event/wi-craft-group-14/
END:VEVENT
BEGIN:VEVENT
DTSTART;TZID=Europe/London:20260424T180000
DTEND;TZID=Europe/London:20260424T190000
DTSTAMP:20260419T133321
CREATED:20260122T122742Z
LAST-MODIFIED:20260122T122742Z
UID:243387-1777053600-1777057200@www.stnicholaswarwick.org.uk
SUMMARY:Rainbows
DESCRIPTION:
URL:https://www.stnicholaswarwick.org.uk/index.php/event/rainbows-26/
END:VEVENT
BEGIN:VEVENT
DTSTART;TZID=Europe/London:20260424T190000
DTEND;TZID=Europe/London:20260424T200000
DTSTAMP:20260419T133321
CREATED:20260123T112143Z
LAST-MODIFIED:20260123T112143Z
UID:243516-1777057200-1777060800@www.stnicholaswarwick.org.uk
SUMMARY:Choir practice
DESCRIPTION:
URL:https://www.stnicholaswarwick.org.uk/index.php/event/choir-practice-37/
END:VEVENT
BEGIN:VEVENT
DTSTART;TZID=Europe/London:20260424T190000
DTEND;TZID=Europe/London:20260424T213000
DTSTAMP:20260419T133321
CREATED:20260122T122812Z
LAST-MODIFIED:20260122T122812Z
UID:243389-1777057200-1777066200@www.stnicholaswarwick.org.uk
SUMMARY:Rangers
DESCRIPTION:
URL:https://www.stnicholaswarwick.org.uk/index.php/event/rangers-25/
END:VEVENT
BEGIN:VEVENT
DTSTART;TZID=Europe/London:20260426T100000
DTEND;TZID=Europe/London:20260426T110000
DTSTAMP:20260419T133321
CREATED:20260219T133948Z
LAST-MODIFIED:20260219T133948Z
UID:243647-1777197600-1777201200@www.stnicholaswarwick.org.uk
SUMMARY:Family Service followed by refreshments
DESCRIPTION:
URL:https://www.stnicholaswarwick.org.uk/index.php/event/family-service-followed-by-refreshments-9/
END:VEVENT
BEGIN:VEVENT
DTSTART;TZID=Europe/London:20260427T103000
DTEND;TZID=Europe/London:20260427T123000
DTSTAMP:20260419T133321
CREATED:20260112T121709Z
LAST-MODIFIED:20260112T121709Z
UID:242929-1777285800-1777293000@www.stnicholaswarwick.org.uk
SUMMARY:Men's Shed
DESCRIPTION:
URL:https://www.stnicholaswarwick.org.uk/index.php/event/mens-shed-53/
END:VEVENT
BEGIN:VEVENT
DTSTART;TZID=Europe/London:20260427T180000
DTEND;TZID=Europe/London:20260427T193000
DTSTAMP:20260419T133321
CREATED:20260116T130747Z
LAST-MODIFIED:20260116T130747Z
UID:243051-1777312800-1777318200@www.stnicholaswarwick.org.uk
SUMMARY:Brownies
DESCRIPTION:
URL:https://www.stnicholaswarwick.org.uk/index.php/event/brownies-26/
END:VEVENT
BEGIN:VEVENT
DTSTART;TZID=Europe/London:20260427T193000
DTEND;TZID=Europe/London:20260427T210000
DTSTAMP:20260419T133321
CREATED:20260116T134433Z
LAST-MODIFIED:20260116T134433Z
UID:243097-1777318200-1777323600@www.stnicholaswarwick.org.uk
SUMMARY:Guides
DESCRIPTION:
URL:https://www.stnicholaswarwick.org.uk/index.php/event/guides-25/
END:VEVENT
BEGIN:VEVENT
DTSTART;TZID=Europe/London:20260429T100000
DTEND;TZID=Europe/London:20260429T113000
DTSTAMP:20260419T133321
CREATED:20260120T125743Z
LAST-MODIFIED:20260120T125743Z
UID:243201-1777456800-1777462200@www.stnicholaswarwick.org.uk
SUMMARY:Parent & Toddler Group
DESCRIPTION:
URL:https://www.stnicholaswarwick.org.uk/index.php/event/parent-toddler-group-6/
END:VEVENT
BEGIN:VEVENT
DTSTART;TZID=Europe/London:20260429T190000
DTEND;TZID=Europe/London:20260429T210000
DTSTAMP:20260419T133321
CREATED:20260122T114249Z
LAST-MODIFIED:20260122T114249Z
UID:243275-1777489200-1777496400@www.stnicholaswarwick.org.uk
SUMMARY:Bell ringing practice
DESCRIPTION:
URL:https://www.stnicholaswarwick.org.uk/index.php/event/bell-ringing-practice-35/
END:VEVENT
END:VCALENDAR